BEGIN:VCALENDAR
VERSION:2.0
PRODID:-//JAX Fray //NONSGML Events //EN
CALSCALE:GREGORIAN
X-WR-CALNAME:JAX Fray
BEGIN:VEVENT
CREATED:20220419T163001Z
UID:6413
DTEND;VALUE=DATE:20260422T162129Z
DTSTART;VALUE=DATE:20260422T162129Z
DTSTAMP:20260422T202129Z
LOCATION:
DESCRIPTION:
SUMMARY:Introduction to Organic Gardening
ORGANIZER:
URL;VALUE=URI:https://www.jaxfray.com/event/introduction-to-organic-gardening-3
TRANSP:OPAQUE
BEGIN:VALARM
ACTION:DISPLAY
TRIGGER;VALUE=DATE-TIME:20260422T162129Z
DESCRIPTION:Reminder for Introduction to Organic Gardening
END:VALARM
END:VEVENT
END:VCALENDAR