BEGIN:VCALENDAR
VERSION:2.0
PRODID:-//JAX Fray //NONSGML Events //EN
CALSCALE:GREGORIAN
X-WR-CALNAME:JAX Fray
BEGIN:VEVENT
CREATED:20220419T162622Z
UID:6407
DTEND;VALUE=DATE:20260422T174623Z
DTSTART;VALUE=DATE:20260422T174623Z
DTSTAMP:20260422T214623Z
LOCATION:
DESCRIPTION:
SUMMARY:Ladies Night Out
ORGANIZER:
URL;VALUE=URI:https://www.jaxfray.com/event/ladies-night-out
TRANSP:OPAQUE
BEGIN:VALARM
ACTION:DISPLAY
TRIGGER;VALUE=DATE-TIME:20260422T174623Z
DESCRIPTION:Reminder for Ladies Night Out
END:VALARM
END:VEVENT
END:VCALENDAR