BEGIN:VCALENDAR
VERSION:2.0
PRODID:-//JAX Fray //NONSGML Events //EN
CALSCALE:GREGORIAN
X-WR-CALNAME:JAX Fray
BEGIN:VEVENT
CREATED:20220412T181608Z
UID:6389
DTEND;VALUE=DATE:20260422T174747Z
DTSTART;VALUE=DATE:20260422T174747Z
DTSTAMP:20260422T214747Z
LOCATION:
DESCRIPTION:
SUMMARY:Jacksonville Murder Mystery Dinner – Midnight at the Masquerade
ORGANIZER:
URL;VALUE=URI:https://www.jaxfray.com/event/jacksonville-murder-mystery-dinner-midnight-at-the-masquerade
TRANSP:OPAQUE
BEGIN:VALARM
ACTION:DISPLAY
TRIGGER;VALUE=DATE-TIME:20260422T174747Z
DESCRIPTION:Reminder for Jacksonville Murder Mystery Dinner – Midnight at the Masquerade
END:VALARM
END:VEVENT
END:VCALENDAR