BEGIN:VCALENDAR
VERSION:2.0
PRODID:-//JAX Fray //NONSGML Events //EN
CALSCALE:GREGORIAN
X-WR-CALNAME:JAX Fray
BEGIN:VEVENT
CREATED:20220412T181330Z
UID:6387
DTEND;VALUE=DATE:20260422T174725Z
DTSTART;VALUE=DATE:20260422T174725Z
DTSTAMP:20260422T214725Z
LOCATION:
DESCRIPTION:
SUMMARY:Tri-County Derby presented by the Sigma Pi Lambda Chapter
ORGANIZER:
URL;VALUE=URI:https://www.jaxfray.com/event/tri-county-derby-presented-by-the-sigma-pi-lambda-chapter
TRANSP:OPAQUE
BEGIN:VALARM
ACTION:DISPLAY
TRIGGER;VALUE=DATE-TIME:20260422T174725Z
DESCRIPTION:Reminder for Tri-County Derby presented by the Sigma Pi Lambda Chapter
END:VALARM
END:VEVENT
END:VCALENDAR