BEGIN:VCALENDAR
VERSION:2.0
PRODID:-//JAX Fray //NONSGML Events //EN
CALSCALE:GREGORIAN
X-WR-CALNAME:JAX Fray
BEGIN:VEVENT
CREATED:20220412T180642Z
UID:6383
DTEND;VALUE=DATE:20260422T174725Z
DTSTART;VALUE=DATE:20260422T174725Z
DTSTAMP:20260422T214725Z
LOCATION:
DESCRIPTION:
SUMMARY:River City Wrestling Con 2022
ORGANIZER:
URL;VALUE=URI:https://www.jaxfray.com/event/river-city-wrestling-con-2022
TRANSP:OPAQUE
BEGIN:VALARM
ACTION:DISPLAY
TRIGGER;VALUE=DATE-TIME:20260422T174725Z
DESCRIPTION:Reminder for River City Wrestling Con 2022
END:VALARM
END:VEVENT
END:VCALENDAR