BEGIN:VCALENDAR
VERSION:2.0
PRODID:-//JAX Fray //NONSGML Events //EN
CALSCALE:GREGORIAN
X-WR-CALNAME:JAX Fray
BEGIN:VEVENT
CREATED:20220412T173036Z
UID:6369
DTEND;VALUE=DATE:20260422T175133Z
DTSTART;VALUE=DATE:20260422T175133Z
DTSTAMP:20260422T215133Z
LOCATION:
DESCRIPTION:
SUMMARY:The Mothers &amp; Daughter’s Day Brunch
ORGANIZER:
URL;VALUE=URI:https://www.jaxfray.com/event/the-mothers-daughters-day-brunch
TRANSP:OPAQUE
BEGIN:VALARM
ACTION:DISPLAY
TRIGGER;VALUE=DATE-TIME:20260422T175133Z
DESCRIPTION:Reminder for The Mothers &amp; Daughter’s Day Brunch
END:VALARM
END:VEVENT
END:VCALENDAR