BEGIN:VCALENDAR
VERSION:2.0
PRODID:-//JAX Fray //NONSGML Events //EN
CALSCALE:GREGORIAN
X-WR-CALNAME:JAX Fray
BEGIN:VEVENT
CREATED:20220412T172751Z
UID:6367
DTEND;VALUE=DATE:20260422T175022Z
DTSTART;VALUE=DATE:20260422T175022Z
DTSTAMP:20260422T215022Z
LOCATION:
DESCRIPTION:
SUMMARY:The Stompdown Experience
ORGANIZER:
URL;VALUE=URI:https://www.jaxfray.com/event/the-stompdown-experience
TRANSP:OPAQUE
BEGIN:VALARM
ACTION:DISPLAY
TRIGGER;VALUE=DATE-TIME:20260422T175022Z
DESCRIPTION:Reminder for The Stompdown Experience
END:VALARM
END:VEVENT
END:VCALENDAR