BEGIN:VCALENDAR
VERSION:2.0
PRODID:-//JAX Fray //NONSGML Events //EN
CALSCALE:GREGORIAN
X-WR-CALNAME:JAX Fray
BEGIN:VEVENT
CREATED:20220412T172445Z
UID:6366
DTEND;VALUE=DATE:20260422T174858Z
DTSTART;VALUE=DATE:20260422T174858Z
DTSTAMP:20260422T214858Z
LOCATION:
DESCRIPTION:
SUMMARY:Jacksonville Jazz Festival 2022
ORGANIZER:
URL;VALUE=URI:https://www.jaxfray.com/event/jacksonville-jazz-festival-2022-3
TRANSP:OPAQUE
BEGIN:VALARM
ACTION:DISPLAY
TRIGGER;VALUE=DATE-TIME:20260422T174858Z
DESCRIPTION:Reminder for Jacksonville Jazz Festival 2022
END:VALARM
END:VEVENT
END:VCALENDAR