BEGIN:VCALENDAR
VERSION:2.0
PRODID:-//JAX Fray //NONSGML Events //EN
CALSCALE:GREGORIAN
X-WR-CALNAME:JAX Fray
BEGIN:VEVENT
CREATED:20220412T172239Z
UID:6361
DTEND;VALUE=DATE:20260422T193509Z
DTSTART;VALUE=DATE:20260422T193509Z
DTSTAMP:20260422T233509Z
LOCATION:
DESCRIPTION:
SUMMARY:Jacksonville Jazz Festival 2022: Piano Competition
ORGANIZER:
URL;VALUE=URI:https://www.jaxfray.com/event/jacksonville-jazz-festival-2022-piano-competition
TRANSP:OPAQUE
BEGIN:VALARM
ACTION:DISPLAY
TRIGGER;VALUE=DATE-TIME:20260422T193509Z
DESCRIPTION:Reminder for Jacksonville Jazz Festival 2022: Piano Competition
END:VALARM
END:VEVENT
END:VCALENDAR