BEGIN:VCALENDAR
VERSION:2.0
PRODID:-//JAX Fray //NONSGML Events //EN
CALSCALE:GREGORIAN
X-WR-CALNAME:JAX Fray
BEGIN:VEVENT
CREATED:20220412T171905Z
UID:6359
DTEND;VALUE=DATE:20260422T193544Z
DTSTART;VALUE=DATE:20260422T193544Z
DTSTAMP:20260422T233544Z
LOCATION:
DESCRIPTION:
SUMMARY:Duval Spring Music &amp; Community Fest 2022
ORGANIZER:
URL;VALUE=URI:https://www.jaxfray.com/event/duval-spring-music-community-fest-2022
TRANSP:OPAQUE
BEGIN:VALARM
ACTION:DISPLAY
TRIGGER;VALUE=DATE-TIME:20260422T193544Z
DESCRIPTION:Reminder for Duval Spring Music &amp; Community Fest 2022
END:VALARM
END:VEVENT
END:VCALENDAR