BEGIN:VCALENDAR
VERSION:2.0
PRODID:-//JAX Fray //NONSGML Events //EN
CALSCALE:GREGORIAN
X-WR-CALNAME:JAX Fray
BEGIN:VEVENT
CREATED:20220401T182335Z
UID:6334
DTEND;VALUE=DATE:20260420T081202Z
DTSTART;VALUE=DATE:20260420T081202Z
DTSTAMP:20260420T121202Z
LOCATION:
DESCRIPTION:
SUMMARY:Goat Yoga 2021-22
ORGANIZER:
URL;VALUE=URI:https://www.jaxfray.com/event/goat-yoga-2021-22
TRANSP:OPAQUE
BEGIN:VALARM
ACTION:DISPLAY
TRIGGER;VALUE=DATE-TIME:20260420T081202Z
DESCRIPTION:Reminder for Goat Yoga 2021-22
END:VALARM
END:VEVENT
END:VCALENDAR