BEGIN:VCALENDAR
VERSION:2.0
PRODID:-//JAX Fray //NONSGML Events //EN
CALSCALE:GREGORIAN
X-WR-CALNAME:JAX Fray
BEGIN:VEVENT
CREATED:20220328T160625Z
UID:6310
DTEND;VALUE=DATE:20260422T193448Z
DTSTART;VALUE=DATE:20260422T193448Z
DTSTAMP:20260422T233448Z
LOCATION:
DESCRIPTION:
SUMMARY:ExZOOberation: Havana Nights
ORGANIZER:
URL;VALUE=URI:https://www.jaxfray.com/event/exzooberation-havana-nights
TRANSP:OPAQUE
BEGIN:VALARM
ACTION:DISPLAY
TRIGGER;VALUE=DATE-TIME:20260422T193448Z
DESCRIPTION:Reminder for ExZOOberation: Havana Nights
END:VALARM
END:VEVENT
END:VCALENDAR