BEGIN:VCALENDAR
VERSION:2.0
PRODID:-//JAX Fray //NONSGML Events //EN
CALSCALE:GREGORIAN
X-WR-CALNAME:JAX Fray
BEGIN:VEVENT
CREATED:20220328T160214Z
UID:6308
DTEND;VALUE=DATE:20260420T082801Z
DTSTART;VALUE=DATE:20260420T082801Z
DTSTAMP:20260420T122801Z
LOCATION:
DESCRIPTION:
SUMMARY:Sandlot Jax Fitness Festival
ORGANIZER:
URL;VALUE=URI:https://www.jaxfray.com/event/sandlot-jax-fitness-festival
TRANSP:OPAQUE
BEGIN:VALARM
ACTION:DISPLAY
TRIGGER;VALUE=DATE-TIME:20260420T082801Z
DESCRIPTION:Reminder for Sandlot Jax Fitness Festival
END:VALARM
END:VEVENT
END:VCALENDAR