BEGIN:VCALENDAR
VERSION:2.0
PRODID:-//JAX Fray //NONSGML Events //EN
CALSCALE:GREGORIAN
X-WR-CALNAME:JAX Fray
BEGIN:VEVENT
CREATED:20220324T172732Z
UID:6284
DTEND;VALUE=DATE:20260422T193415Z
DTSTART;VALUE=DATE:20260422T193415Z
DTSTAMP:20260422T233415Z
LOCATION:
DESCRIPTION:
SUMMARY:San Marco Beer Fest
ORGANIZER:
URL;VALUE=URI:https://www.jaxfray.com/event/san-marco-beer-fest
TRANSP:OPAQUE
BEGIN:VALARM
ACTION:DISPLAY
TRIGGER;VALUE=DATE-TIME:20260422T193415Z
DESCRIPTION:Reminder for San Marco Beer Fest
END:VALARM
END:VEVENT
END:VCALENDAR