BEGIN:VCALENDAR
VERSION:2.0
PRODID:-//JAX Fray //NONSGML Events //EN
CALSCALE:GREGORIAN
X-WR-CALNAME:JAX Fray
BEGIN:VEVENT
CREATED:20220324T172509Z
UID:6282
DTEND;VALUE=DATE:20260422T211855Z
DTSTART;VALUE=DATE:20260422T211855Z
DTSTAMP:20260423T011855Z
LOCATION:
DESCRIPTION:
SUMMARY:Puff Puff Paint hosted by “Party &amp; Paint”
ORGANIZER:
URL;VALUE=URI:https://www.jaxfray.com/event/puff-puff-paint-hosted-by-party-paint
TRANSP:OPAQUE
BEGIN:VALARM
ACTION:DISPLAY
TRIGGER;VALUE=DATE-TIME:20260422T211855Z
DESCRIPTION:Reminder for Puff Puff Paint hosted by “Party &amp; Paint”
END:VALARM
END:VEVENT
END:VCALENDAR