BEGIN:VCALENDAR
VERSION:2.0
PRODID:-//JAX Fray //NONSGML Events //EN
CALSCALE:GREGORIAN
X-WR-CALNAME:JAX Fray
BEGIN:VEVENT
CREATED:20220324T171859Z
UID:6278
DTEND;VALUE=DATE:20260422T211419Z
DTSTART;VALUE=DATE:20260422T211419Z
DTSTAMP:20260423T011419Z
LOCATION:
DESCRIPTION:
SUMMARY:Jax River Jams
ORGANIZER:
URL;VALUE=URI:https://www.jaxfray.com/event/jax-river-jams-4
TRANSP:OPAQUE
BEGIN:VALARM
ACTION:DISPLAY
TRIGGER;VALUE=DATE-TIME:20260422T211419Z
DESCRIPTION:Reminder for Jax River Jams
END:VALARM
END:VEVENT
END:VCALENDAR