BEGIN:VCALENDAR
VERSION:2.0
PRODID:-//JAX Fray //NONSGML Events //EN
CALSCALE:GREGORIAN
X-WR-CALNAME:JAX Fray
BEGIN:VEVENT
CREATED:20220323T113853Z
UID:6269
DTEND;VALUE=DATE:20260422T205813Z
DTSTART;VALUE=DATE:20260422T205813Z
DTSTAMP:20260423T005813Z
LOCATION:
DESCRIPTION:
SUMMARY:Best Buddies Friendship Walk
ORGANIZER:
URL;VALUE=URI:https://www.jaxfray.com/event/best-buddies-friendship-walk
TRANSP:OPAQUE
BEGIN:VALARM
ACTION:DISPLAY
TRIGGER;VALUE=DATE-TIME:20260422T205813Z
DESCRIPTION:Reminder for Best Buddies Friendship Walk
END:VALARM
END:VEVENT
END:VCALENDAR