BEGIN:VCALENDAR
VERSION:2.0
PRODID:-//JAX Fray //NONSGML Events //EN
CALSCALE:GREGORIAN
X-WR-CALNAME:JAX Fray
BEGIN:VEVENT
CREATED:20220317T192049Z
UID:6249
DTEND;VALUE=DATE:20260422T205706Z
DTSTART;VALUE=DATE:20260422T205706Z
DTSTAMP:20260423T005706Z
LOCATION:
DESCRIPTION:
SUMMARY:Jacksonville Reptile Expo Show Me Reptile &amp; Exotics Show
ORGANIZER:
URL;VALUE=URI:https://www.jaxfray.com/event/jacksonville-reptile-expo-show-me-reptile-exotics-show
TRANSP:OPAQUE
BEGIN:VALARM
ACTION:DISPLAY
TRIGGER;VALUE=DATE-TIME:20260422T205706Z
DESCRIPTION:Reminder for Jacksonville Reptile Expo Show Me Reptile &amp; Exotics Show
END:VALARM
END:VEVENT
END:VCALENDAR