BEGIN:VCALENDAR
VERSION:2.0
PRODID:-//JAX Fray //NONSGML Events //EN
CALSCALE:GREGORIAN
X-WR-CALNAME:JAX Fray
BEGIN:VEVENT
CREATED:20220317T191549Z
UID:6246
DTEND;VALUE=DATE:20260422T205706Z
DTSTART;VALUE=DATE:20260422T205706Z
DTSTAMP:20260423T005706Z
LOCATION:
DESCRIPTION:
SUMMARY:Diamonds in the Rust Spring Market
ORGANIZER:
URL;VALUE=URI:https://www.jaxfray.com/event/diamonds-in-the-rust-spring-market
TRANSP:OPAQUE
BEGIN:VALARM
ACTION:DISPLAY
TRIGGER;VALUE=DATE-TIME:20260422T205706Z
DESCRIPTION:Reminder for Diamonds in the Rust Spring Market
END:VALARM
END:VEVENT
END:VCALENDAR