BEGIN:VCALENDAR
VERSION:2.0
PRODID:-//JAX Fray //NONSGML Events //EN
CALSCALE:GREGORIAN
X-WR-CALNAME:JAX Fray
BEGIN:VEVENT
CREATED:20220317T191043Z
UID:6244
DTEND;VALUE=DATE:20260422T210757Z
DTSTART;VALUE=DATE:20260422T210757Z
DTSTAMP:20260423T010757Z
LOCATION:
DESCRIPTION:
SUMMARY:JWBS Whiskey Festival for Best Buddies Jacksonville
ORGANIZER:
URL;VALUE=URI:https://www.jaxfray.com/event/jwbs-whiskey-festival-for-best-buddies-jacksonville
TRANSP:OPAQUE
BEGIN:VALARM
ACTION:DISPLAY
TRIGGER;VALUE=DATE-TIME:20260422T210757Z
DESCRIPTION:Reminder for JWBS Whiskey Festival for Best Buddies Jacksonville
END:VALARM
END:VEVENT
END:VCALENDAR