BEGIN:VCALENDAR
VERSION:2.0
PRODID:-//JAX Fray //NONSGML Events //EN
CALSCALE:GREGORIAN
X-WR-CALNAME:JAX Fray
BEGIN:VEVENT
CREATED:20220222T171625Z
UID:6196
DTEND;VALUE=DATE:20260422T220637Z
DTSTART;VALUE=DATE:20260422T220637Z
DTSTAMP:20260423T020637Z
LOCATION:
DESCRIPTION:
SUMMARY:2/24 – National Chili Day
ORGANIZER:
URL;VALUE=URI:https://www.jaxfray.com/event/2-24-national-chili-day
TRANSP:OPAQUE
BEGIN:VALARM
ACTION:DISPLAY
TRIGGER;VALUE=DATE-TIME:20260422T220637Z
DESCRIPTION:Reminder for 2/24 – National Chili Day
END:VALARM
END:VEVENT
END:VCALENDAR