BEGIN:VCALENDAR
VERSION:2.0
PRODID:-//JAX Fray //NONSGML Events //EN
CALSCALE:GREGORIAN
X-WR-CALNAME:JAX Fray
BEGIN:VEVENT
CREATED:20220222T171449Z
UID:6194
DTEND;VALUE=DATE:20260422T221319Z
DTSTART;VALUE=DATE:20260422T221319Z
DTSTAMP:20260423T021319Z
LOCATION:
DESCRIPTION:
SUMMARY:2/24 – Colombian-Style Street Foods
ORGANIZER:
URL;VALUE=URI:https://www.jaxfray.com/event/2-24-colombian-style-street-foods
TRANSP:OPAQUE
BEGIN:VALARM
ACTION:DISPLAY
TRIGGER;VALUE=DATE-TIME:20260422T221319Z
DESCRIPTION:Reminder for 2/24 – Colombian-Style Street Foods
END:VALARM
END:VEVENT
END:VCALENDAR