BEGIN:VCALENDAR
VERSION:2.0
PRODID:-//JAX Fray //NONSGML Events //EN
CALSCALE:GREGORIAN
X-WR-CALNAME:JAX Fray
BEGIN:VEVENT
CREATED:20220222T171101Z
UID:6190
DTEND;VALUE=DATE:20260422T220621Z
DTSTART;VALUE=DATE:20260422T220621Z
DTSTAMP:20260423T020621Z
LOCATION:
DESCRIPTION:
SUMMARY:2/26 – Cheese, Beer &amp; Dinner Experience
ORGANIZER:
URL;VALUE=URI:https://www.jaxfray.com/event/2-26-cheese-beer-dinner-experience
TRANSP:OPAQUE
BEGIN:VALARM
ACTION:DISPLAY
TRIGGER;VALUE=DATE-TIME:20260422T220621Z
DESCRIPTION:Reminder for 2/26 – Cheese\, Beer &amp; Dinner Experience
END:VALARM
END:VEVENT
END:VCALENDAR