BEGIN:VCALENDAR
VERSION:2.0
PRODID:-//JAX Fray //NONSGML Events //EN
CALSCALE:GREGORIAN
X-WR-CALNAME:JAX Fray
BEGIN:VEVENT
CREATED:20220222T170638Z
UID:6188
DTEND;VALUE=DATE:20260422T220652Z
DTSTART;VALUE=DATE:20260422T220652Z
DTSTAMP:20260423T020652Z
LOCATION:
DESCRIPTION:
SUMMARY:2/26 – Drinks for Dyslexia
ORGANIZER:
URL;VALUE=URI:https://www.jaxfray.com/event/2-26-drinks-for-dyslexia
TRANSP:OPAQUE
BEGIN:VALARM
ACTION:DISPLAY
TRIGGER;VALUE=DATE-TIME:20260422T220652Z
DESCRIPTION:Reminder for 2/26 – Drinks for Dyslexia
END:VALARM
END:VEVENT
END:VCALENDAR