BEGIN:VCALENDAR
VERSION:2.0
PRODID:-//JAX Fray //NONSGML Events //EN
CALSCALE:GREGORIAN
X-WR-CALNAME:JAX Fray
BEGIN:VEVENT
CREATED:20220222T170430Z
UID:6186
DTEND;VALUE=DATE:20260422T222100Z
DTSTART;VALUE=DATE:20260422T222100Z
DTSTAMP:20260423T022100Z
LOCATION:
DESCRIPTION:
SUMMARY:2/26 – Phoenix SneakerBall
ORGANIZER:
URL;VALUE=URI:https://www.jaxfray.com/event/2-26-phoenix-sneakerball
TRANSP:OPAQUE
BEGIN:VALARM
ACTION:DISPLAY
TRIGGER;VALUE=DATE-TIME:20260422T222100Z
DESCRIPTION:Reminder for 2/26 – Phoenix SneakerBall
END:VALARM
END:VEVENT
END:VCALENDAR