BEGIN:VCALENDAR
VERSION:2.0
PRODID:-//JAX Fray //NONSGML Events //EN
CALSCALE:GREGORIAN
X-WR-CALNAME:JAX Fray
BEGIN:VEVENT
CREATED:20220222T165019Z
UID:6184
DTEND;VALUE=DATE:20260422T220638Z
DTSTART;VALUE=DATE:20260422T220638Z
DTSTAMP:20260423T020638Z
LOCATION:
DESCRIPTION:
SUMMARY:2/25 – Bold City Con
ORGANIZER:
URL;VALUE=URI:https://www.jaxfray.com/event/2-25-bold-city-con
TRANSP:OPAQUE
BEGIN:VALARM
ACTION:DISPLAY
TRIGGER;VALUE=DATE-TIME:20260422T220638Z
DESCRIPTION:Reminder for 2/25 – Bold City Con
END:VALARM
END:VEVENT
END:VCALENDAR