BEGIN:VCALENDAR
VERSION:2.0
PRODID:-//JAX Fray //NONSGML Events //EN
CALSCALE:GREGORIAN
X-WR-CALNAME:JAX Fray
BEGIN:VEVENT
CREATED:20220215T174129Z
UID:6170
DTEND;VALUE=DATE:20260422T221726Z
DTSTART;VALUE=DATE:20260422T221726Z
DTSTAMP:20260423T021726Z
LOCATION:
DESCRIPTION:
SUMMARY:2/17 – Cocktails, Couture &amp; Clean Conversations
ORGANIZER:
URL;VALUE=URI:https://www.jaxfray.com/event/2-17-cocktails-couture-clean-conversations
TRANSP:OPAQUE
BEGIN:VALARM
ACTION:DISPLAY
TRIGGER;VALUE=DATE-TIME:20260422T221726Z
DESCRIPTION:Reminder for 2/17 – Cocktails\, Couture &amp; Clean Conversations
END:VALARM
END:VEVENT
END:VCALENDAR