BEGIN:VCALENDAR
VERSION:2.0
PRODID:-//JAX Fray //NONSGML Events //EN
CALSCALE:GREGORIAN
X-WR-CALNAME:JAX Fray
BEGIN:VEVENT
CREATED:20220215T173919Z
UID:6168
DTEND;VALUE=DATE:20260422T222025Z
DTSTART;VALUE=DATE:20260422T222025Z
DTSTAMP:20260423T022025Z
LOCATION:
DESCRIPTION:
SUMMARY:2/15 – Food Truck Delights
ORGANIZER:
URL;VALUE=URI:https://www.jaxfray.com/event/2-15-food-truck-delights
TRANSP:OPAQUE
BEGIN:VALARM
ACTION:DISPLAY
TRIGGER;VALUE=DATE-TIME:20260422T222025Z
DESCRIPTION:Reminder for 2/15 – Food Truck Delights
END:VALARM
END:VEVENT
END:VCALENDAR