BEGIN:VCALENDAR
VERSION:2.0
PRODID:-//JAX Fray //NONSGML Events //EN
CALSCALE:GREGORIAN
X-WR-CALNAME:JAX Fray
BEGIN:VEVENT
CREATED:20220215T173812Z
UID:6166
DTEND;VALUE=DATE:20260422T234819Z
DTSTART;VALUE=DATE:20260422T234819Z
DTSTAMP:20260423T034819Z
LOCATION:
DESCRIPTION:
SUMMARY:2/18 – Buon Appetito: A Taste of Italy
ORGANIZER:
URL;VALUE=URI:https://www.jaxfray.com/event/2-18-buon-appetito-a-taste-of-italy
TRANSP:OPAQUE
BEGIN:VALARM
ACTION:DISPLAY
TRIGGER;VALUE=DATE-TIME:20260422T234819Z
DESCRIPTION:Reminder for 2/18 – Buon Appetito: A Taste of Italy
END:VALARM
END:VEVENT
END:VCALENDAR