BEGIN:VCALENDAR
VERSION:2.0
PRODID:-//JAX Fray //NONSGML Events //EN
CALSCALE:GREGORIAN
X-WR-CALNAME:JAX Fray
BEGIN:VEVENT
CREATED:20220215T173414Z
UID:6161
DTEND;VALUE=DATE:20260422T233927Z
DTSTART;VALUE=DATE:20260422T233927Z
DTSTAMP:20260423T033927Z
LOCATION:
DESCRIPTION:
SUMMARY:2/19 – Bold City Battle for the Paddle
ORGANIZER:
URL;VALUE=URI:https://www.jaxfray.com/event/2-19-bold-city-battle-for-the-paddle
TRANSP:OPAQUE
BEGIN:VALARM
ACTION:DISPLAY
TRIGGER;VALUE=DATE-TIME:20260422T233927Z
DESCRIPTION:Reminder for 2/19 – Bold City Battle for the Paddle
END:VALARM
END:VEVENT
END:VCALENDAR