BEGIN:VCALENDAR
VERSION:2.0
PRODID:-//JAX Fray //NONSGML Events //EN
CALSCALE:GREGORIAN
X-WR-CALNAME:JAX Fray
BEGIN:VEVENT
CREATED:20220215T172743Z
UID:6159
DTEND;VALUE=DATE:20260422T233822Z
DTSTART;VALUE=DATE:20260422T233822Z
DTSTAMP:20260423T033822Z
LOCATION:
DESCRIPTION:
SUMMARY:2/19 – Puff Puff Paint
ORGANIZER:
URL;VALUE=URI:https://www.jaxfray.com/event/2-19-puff-puff-paint
TRANSP:OPAQUE
BEGIN:VALARM
ACTION:DISPLAY
TRIGGER;VALUE=DATE-TIME:20260422T233822Z
DESCRIPTION:Reminder for 2/19 – Puff Puff Paint
END:VALARM
END:VEVENT
END:VCALENDAR