BEGIN:VCALENDAR
VERSION:2.0
PRODID:-//JAX Fray //NONSGML Events //EN
CALSCALE:GREGORIAN
X-WR-CALNAME:JAX Fray
BEGIN:VEVENT
CREATED:20220208T161820Z
UID:6141
DTEND;VALUE=DATE:20260422T234100Z
DTSTART;VALUE=DATE:20260422T234100Z
DTSTAMP:20260423T034100Z
LOCATION:
DESCRIPTION:
SUMMARY:2/12 – Valentine’s Oil Painting Workshop
ORGANIZER:
URL;VALUE=URI:https://www.jaxfray.com/event/2-12-valentines-oil-painting-workshop
TRANSP:OPAQUE
BEGIN:VALARM
ACTION:DISPLAY
TRIGGER;VALUE=DATE-TIME:20260422T234100Z
DESCRIPTION:Reminder for 2/12 – Valentine’s Oil Painting Workshop
END:VALARM
END:VEVENT
END:VCALENDAR