BEGIN:VCALENDAR
VERSION:2.0
PRODID:-//JAX Fray //NONSGML Events //EN
CALSCALE:GREGORIAN
X-WR-CALNAME:JAX Fray
BEGIN:VEVENT
CREATED:20220208T161709Z
UID:6139
DTEND;VALUE=DATE:20260422T233929Z
DTSTART;VALUE=DATE:20260422T233929Z
DTSTAMP:20260423T033929Z
LOCATION:
DESCRIPTION:
SUMMARY:2/10 – Galentine’s Soiree
ORGANIZER:
URL;VALUE=URI:https://www.jaxfray.com/event/2-10-galentines-soiree
TRANSP:OPAQUE
BEGIN:VALARM
ACTION:DISPLAY
TRIGGER;VALUE=DATE-TIME:20260422T233929Z
DESCRIPTION:Reminder for 2/10 – Galentine’s Soiree
END:VALARM
END:VEVENT
END:VCALENDAR