BEGIN:VCALENDAR
VERSION:2.0
PRODID:-//JAX Fray //NONSGML Events //EN
CALSCALE:GREGORIAN
X-WR-CALNAME:JAX Fray
BEGIN:VEVENT
CREATED:20220208T161547Z
UID:6137
DTEND;VALUE=DATE:20260422T235424Z
DTSTART;VALUE=DATE:20260422T235424Z
DTSTAMP:20260423T035424Z
LOCATION:
DESCRIPTION:
SUMMARY:2/12 – Big Chef-Teen Chef: World of Noodles
ORGANIZER:
URL;VALUE=URI:https://www.jaxfray.com/event/2-12-big-chef-teen-chef-world-of-noodles
TRANSP:OPAQUE
BEGIN:VALARM
ACTION:DISPLAY
TRIGGER;VALUE=DATE-TIME:20260422T235424Z
DESCRIPTION:Reminder for 2/12 – Big Chef-Teen Chef: World of Noodles
END:VALARM
END:VEVENT
END:VCALENDAR