BEGIN:VCALENDAR
VERSION:2.0
PRODID:-//JAX Fray //NONSGML Events //EN
CALSCALE:GREGORIAN
X-WR-CALNAME:JAX Fray
BEGIN:VEVENT
CREATED:20220208T161434Z
UID:6135
DTEND;VALUE=DATE:20260422T233710Z
DTSTART;VALUE=DATE:20260422T233710Z
DTSTAMP:20260423T033710Z
LOCATION:
DESCRIPTION:
SUMMARY:2/10 – Valentine’s Paint N’ Wine at The Jaxon!
ORGANIZER:
URL;VALUE=URI:https://www.jaxfray.com/event/2-10-valentines-paint-n-wine-at-the-jaxon
TRANSP:OPAQUE
BEGIN:VALARM
ACTION:DISPLAY
TRIGGER;VALUE=DATE-TIME:20260422T233710Z
DESCRIPTION:Reminder for 2/10 – Valentine’s Paint N’ Wine at The Jaxon!
END:VALARM
END:VEVENT
END:VCALENDAR