BEGIN:VCALENDAR
VERSION:2.0
PRODID:-//JAX Fray //NONSGML Events //EN
CALSCALE:GREGORIAN
X-WR-CALNAME:JAX Fray
BEGIN:VEVENT
CREATED:20220208T161309Z
UID:6133
DTEND;VALUE=DATE:20260422T233450Z
DTSTART;VALUE=DATE:20260422T233450Z
DTSTAMP:20260423T033450Z
LOCATION:
DESCRIPTION:
SUMMARY:2/10 – Sweet, Spice &amp; Everything Nice
ORGANIZER:
URL;VALUE=URI:https://www.jaxfray.com/event/2-10-sweet-spice-everything-nice
TRANSP:OPAQUE
BEGIN:VALARM
ACTION:DISPLAY
TRIGGER;VALUE=DATE-TIME:20260422T233450Z
DESCRIPTION:Reminder for 2/10 – Sweet\, Spice &amp; Everything Nice
END:VALARM
END:VEVENT
END:VCALENDAR