BEGIN:VCALENDAR
VERSION:2.0
PRODID:-//JAX Fray //NONSGML Events //EN
CALSCALE:GREGORIAN
X-WR-CALNAME:JAX Fray
BEGIN:VEVENT
CREATED:20220208T161052Z
UID:6131
DTEND;VALUE=DATE:20260423T015234Z
DTSTART;VALUE=DATE:20260423T015234Z
DTSTAMP:20260423T055234Z
LOCATION:
DESCRIPTION:
SUMMARY:2/10 – Beer Can Derby
ORGANIZER:
URL;VALUE=URI:https://www.jaxfray.com/event/2-10-beer-can-derby
TRANSP:OPAQUE
BEGIN:VALARM
ACTION:DISPLAY
TRIGGER;VALUE=DATE-TIME:20260423T015234Z
DESCRIPTION:Reminder for 2/10 – Beer Can Derby
END:VALARM
END:VEVENT
END:VCALENDAR