BEGIN:VCALENDAR
VERSION:2.0
PRODID:-//JAX Fray //NONSGML Events //EN
CALSCALE:GREGORIAN
X-WR-CALNAME:JAX Fray
BEGIN:VEVENT
CREATED:20220208T160044Z
UID:6123
DTEND;VALUE=DATE:20260423T010225Z
DTSTART;VALUE=DATE:20260423T010225Z
DTSTAMP:20260423T050225Z
LOCATION:
DESCRIPTION:
SUMMARY:2/10 – Arts and Hearts
ORGANIZER:
URL;VALUE=URI:https://www.jaxfray.com/event/2-10-arts-and-hearts
TRANSP:OPAQUE
BEGIN:VALARM
ACTION:DISPLAY
TRIGGER;VALUE=DATE-TIME:20260423T010225Z
DESCRIPTION:Reminder for 2/10 – Arts and Hearts
END:VALARM
END:VEVENT
END:VCALENDAR