BEGIN:VCALENDAR
VERSION:2.0
PRODID:-//JAX Fray //NONSGML Events //EN
CALSCALE:GREGORIAN
X-WR-CALNAME:JAX Fray
BEGIN:VEVENT
CREATED:20220208T155933Z
UID:6121
DTEND;VALUE=DATE:20260423T010301Z
DTSTART;VALUE=DATE:20260423T010301Z
DTSTAMP:20260423T050301Z
LOCATION:
DESCRIPTION:
SUMMARY:2/12 – Chinese New Year Celebration Dinner
ORGANIZER:
URL;VALUE=URI:https://www.jaxfray.com/event/2-12-chinese-new-year-celebration-dinner
TRANSP:OPAQUE
BEGIN:VALARM
ACTION:DISPLAY
TRIGGER;VALUE=DATE-TIME:20260423T010301Z
DESCRIPTION:Reminder for 2/12 – Chinese New Year Celebration Dinner
END:VALARM
END:VEVENT
END:VCALENDAR