BEGIN:VCALENDAR
VERSION:2.0
PRODID:-//JAX Fray //NONSGML Events //EN
CALSCALE:GREGORIAN
X-WR-CALNAME:JAX Fray
BEGIN:VEVENT
CREATED:20220131T182144Z
UID:6084
DTEND;VALUE=DATE:20260423T013450Z
DTSTART;VALUE=DATE:20260423T013450Z
DTSTAMP:20260423T053450Z
LOCATION:
DESCRIPTION:
SUMMARY:2/04 – 2/06 – Jacksonville Film Festival
ORGANIZER:
URL;VALUE=URI:https://www.jaxfray.com/event/2-04-2-06-jacksonville-film-festival
TRANSP:OPAQUE
BEGIN:VALARM
ACTION:DISPLAY
TRIGGER;VALUE=DATE-TIME:20260423T013450Z
DESCRIPTION:Reminder for 2/04 – 2/06 – Jacksonville Film Festival
END:VALARM
END:VEVENT
END:VCALENDAR