BEGIN:VCALENDAR
VERSION:2.0
PRODID:-//JAX Fray //NONSGML Events //EN
CALSCALE:GREGORIAN
X-WR-CALNAME:JAX Fray
BEGIN:VEVENT
CREATED:20210504T180118Z
UID:5484
DTEND;VALUE=DATE:20260423T024143Z
DTSTART;VALUE=DATE:20260423T024143Z
DTSTAMP:20260423T064143Z
LOCATION:
DESCRIPTION:
SUMMARY:John Legend at St. Augustine Amphitheatre
ORGANIZER:
URL;VALUE=URI:https://www.jaxfray.com/event/john-legend-at-st-augustine-amphitheatre-2
TRANSP:OPAQUE
BEGIN:VALARM
ACTION:DISPLAY
TRIGGER;VALUE=DATE-TIME:20260423T024143Z
DESCRIPTION:Reminder for John Legend at St. Augustine Amphitheatre
END:VALARM
END:VEVENT
END:VCALENDAR