BEGIN:VCALENDAR
VERSION:2.0
PRODID:-//JAX Fray //NONSGML Events //EN
CALSCALE:GREGORIAN
X-WR-CALNAME:JAX Fray
BEGIN:VEVENT
CREATED:20210504T174901Z
UID:5480
DTEND;VALUE=DATE:20260423T025717Z
DTSTART;VALUE=DATE:20260423T025717Z
DTSTAMP:20260423T065717Z
LOCATION:
DESCRIPTION:
SUMMARY:Fitz and The Tantrums at St. Augustine Amphitheatre
ORGANIZER:
URL;VALUE=URI:https://www.jaxfray.com/event/fitz-and-the-tantrums-at-st-augustine-amphitheatre
TRANSP:OPAQUE
BEGIN:VALARM
ACTION:DISPLAY
TRIGGER;VALUE=DATE-TIME:20260423T025717Z
DESCRIPTION:Reminder for Fitz and The Tantrums at St. Augustine Amphitheatre
END:VALARM
END:VEVENT
END:VCALENDAR