BEGIN:VCALENDAR
VERSION:2.0
PRODID:-//JAX Fray //NONSGML Events //EN
CALSCALE:GREGORIAN
X-WR-CALNAME:JAX Fray
BEGIN:VEVENT
CREATED:20210504T174020Z
UID:5479
DTEND;VALUE=DATE:20260423T024143Z
DTSTART;VALUE=DATE:20260423T024143Z
DTSTAMP:20260423T064143Z
LOCATION:
DESCRIPTION:
SUMMARY:Jumbo Shrimp Game // vs Nashville Sounds
ORGANIZER:
URL;VALUE=URI:https://www.jaxfray.com/event/jumbo-shrimp-game-vs-nashville-sounds
TRANSP:OPAQUE
BEGIN:VALARM
ACTION:DISPLAY
TRIGGER;VALUE=DATE-TIME:20260423T024143Z
DESCRIPTION:Reminder for Jumbo Shrimp Game // vs Nashville Sounds
END:VALARM
END:VEVENT
END:VCALENDAR