BEGIN:VCALENDAR
VERSION:2.0
PRODID:-//JAX Fray //NONSGML Events //EN
CALSCALE:GREGORIAN
X-WR-CALNAME:JAX Fray
BEGIN:VEVENT
CREATED:20210504T173345Z
UID:5478
DTEND;VALUE=DATE:20260423T024030Z
DTSTART;VALUE=DATE:20260423T024030Z
DTSTAMP:20260423T064030Z
LOCATION:
DESCRIPTION:
SUMMARY:Jumbo Shrimp Game // vs Durham Bulls
ORGANIZER:
URL;VALUE=URI:https://www.jaxfray.com/event/jumbo-shrimp-game-3
TRANSP:OPAQUE
BEGIN:VALARM
ACTION:DISPLAY
TRIGGER;VALUE=DATE-TIME:20260423T024030Z
DESCRIPTION:Reminder for Jumbo Shrimp Game // vs Durham Bulls
END:VALARM
END:VEVENT
END:VCALENDAR