BEGIN:VCALENDAR
VERSION:2.0
PRODID:-//JAX Fray //NONSGML Events //EN
CALSCALE:GREGORIAN
X-WR-CALNAME:JAX Fray
BEGIN:VEVENT
CREATED:20210504T173123Z
UID:5477
DTEND;VALUE=DATE:20260423T024127Z
DTSTART;VALUE=DATE:20260423T024127Z
DTSTAMP:20260423T064127Z
LOCATION:
DESCRIPTION:
SUMMARY:Jumbo Shrimp Game // vs Durham Bulls
ORGANIZER:
URL;VALUE=URI:https://www.jaxfray.com/event/jumbo-shrimp-game-2
TRANSP:OPAQUE
BEGIN:VALARM
ACTION:DISPLAY
TRIGGER;VALUE=DATE-TIME:20260423T024127Z
DESCRIPTION:Reminder for Jumbo Shrimp Game // vs Durham Bulls
END:VALARM
END:VEVENT
END:VCALENDAR