BEGIN:VCALENDAR
VERSION:2.0
PRODID:-//JAX Fray //NONSGML Events //EN
CALSCALE:GREGORIAN
X-WR-CALNAME:JAX Fray
BEGIN:VEVENT
CREATED:20210504T165835Z
UID:5473
DTEND;VALUE=DATE:20260423T024127Z
DTSTART;VALUE=DATE:20260423T024127Z
DTSTAMP:20260423T064127Z
LOCATION:
DESCRIPTION:
SUMMARY:Registration Open: Siegtoberfest
ORGANIZER:
URL;VALUE=URI:https://www.jaxfray.com/event/siegtoberfest
TRANSP:OPAQUE
BEGIN:VALARM
ACTION:DISPLAY
TRIGGER;VALUE=DATE-TIME:20260423T024127Z
DESCRIPTION:Reminder for Registration Open: Siegtoberfest
END:VALARM
END:VEVENT
END:VCALENDAR