BEGIN:VCALENDAR
VERSION:2.0
PRODID:-//JAX Fray //NONSGML Events //EN
CALSCALE:GREGORIAN
X-WR-CALNAME:JAX Fray
BEGIN:VEVENT
CREATED:20210223T185109Z
UID:5357
DTEND;VALUE=DATE:20260423T024000Z
DTSTART;VALUE=DATE:20260423T024000Z
DTSTAMP:20260423T064000Z
LOCATION:
DESCRIPTION:
SUMMARY:Virtual Craft Cocktail Class with Please Bring Chips
ORGANIZER:
URL;VALUE=URI:https://www.jaxfray.com/event/virtual-craft-cocktail-class-with-please-bring-chips
TRANSP:OPAQUE
BEGIN:VALARM
ACTION:DISPLAY
TRIGGER;VALUE=DATE-TIME:20260423T024000Z
DESCRIPTION:Reminder for Virtual Craft Cocktail Class with Please Bring Chips
END:VALARM
END:VEVENT
END:VCALENDAR