BEGIN:VCALENDAR
VERSION:2.0
PRODID:-//JAX Fray //NONSGML Events //EN
CALSCALE:GREGORIAN
X-WR-CALNAME:JAX Fray
BEGIN:VEVENT
CREATED:20201109T181033Z
UID:5248
DTEND;VALUE=DATE:20260423T024036Z
DTSTART;VALUE=DATE:20260423T024036Z
DTSTAMP:20260423T064036Z
LOCATION:
DESCRIPTION:
SUMMARY:Winter 2021 Social Sports League Now Open
ORGANIZER:
URL;VALUE=URI:https://www.jaxfray.com/event/winter-2021-social-sports-league-now-open
TRANSP:OPAQUE
BEGIN:VALARM
ACTION:DISPLAY
TRIGGER;VALUE=DATE-TIME:20260423T024036Z
DESCRIPTION:Reminder for Winter 2021 Social Sports League Now Open
END:VALARM
END:VEVENT
END:VCALENDAR