BEGIN:VCALENDAR
VERSION:2.0
PRODID:-//JAX Fray //NONSGML Events //EN
CALSCALE:GREGORIAN
X-WR-CALNAME:JAX Fray
BEGIN:VEVENT
CREATED:20201006T195548Z
UID:5169
DTEND;VALUE=DATE:20260423T024036Z
DTSTART;VALUE=DATE:20260423T024036Z
DTSTAMP:20260423T064036Z
LOCATION:
DESCRIPTION:
SUMMARY:Wizards &amp; Wands Trivia
ORGANIZER:
URL;VALUE=URI:https://www.jaxfray.com/event/wizards-wands-trivia
TRANSP:OPAQUE
BEGIN:VALARM
ACTION:DISPLAY
TRIGGER;VALUE=DATE-TIME:20260423T024036Z
DESCRIPTION:Reminder for Wizards &amp; Wands Trivia
END:VALARM
END:VEVENT
END:VCALENDAR