BEGIN:VCALENDAR
VERSION:2.0
PRODID:-//JAX Fray //NONSGML Events //EN
CALSCALE:GREGORIAN
X-WR-CALNAME:JAX Fray
BEGIN:VEVENT
CREATED:20200901T202839Z
UID:5123
DTEND;VALUE=DATE:20260423T041646Z
DTSTART;VALUE=DATE:20260423T041646Z
DTSTAMP:20260423T081646Z
LOCATION:
DESCRIPTION:
SUMMARY:Online Bingo Night
ORGANIZER:
URL;VALUE=URI:https://www.jaxfray.com/event/online-bingo-night-8
TRANSP:OPAQUE
BEGIN:VALARM
ACTION:DISPLAY
TRIGGER;VALUE=DATE-TIME:20260423T041646Z
DESCRIPTION:Reminder for Online Bingo Night
END:VALARM
END:VEVENT
END:VCALENDAR